BEGIN:VCALENDAR
VERSION:2.0
PRODID:-//88.7 The Cross - ECPv6.15.20//NONSGML v1.0//EN
CALSCALE:GREGORIAN
METHOD:PUBLISH
X-ORIGINAL-URL:https://887thecross.com
X-WR-CALDESC:Events for 88.7 The Cross
REFRESH-INTERVAL;VALUE=DURATION:PT1H
X-Robots-Tag:noindex
X-PUBLISHED-TTL:PT1H
BEGIN:VTIMEZONE
TZID:America/Chicago
BEGIN:DAYLIGHT
TZOFFSETFROM:-0600
TZOFFSETTO:-0500
TZNAME:CDT
DTSTART:20250309T080000
END:DAYLIGHT
BEGIN:STANDARD
TZOFFSETFROM:-0500
TZOFFSETTO:-0600
TZNAME:CST
DTSTART:20251102T070000
END:STANDARD
BEGIN:DAYLIGHT
TZOFFSETFROM:-0600
TZOFFSETTO:-0500
TZNAME:CDT
DTSTART:20260308T080000
END:DAYLIGHT
BEGIN:STANDARD
TZOFFSETFROM:-0500
TZOFFSETTO:-0600
TZNAME:CST
DTSTART:20261101T070000
END:STANDARD
BEGIN:DAYLIGHT
TZOFFSETFROM:-0600
TZOFFSETTO:-0500
TZNAME:CDT
DTSTART:20270314T080000
END:DAYLIGHT
BEGIN:STANDARD
TZOFFSETFROM:-0500
TZOFFSETTO:-0600
TZNAME:CST
DTSTART:20271107T070000
END:STANDARD
END:VTIMEZONE
BEGIN:VEVENT
DTSTART;TZID=America/Chicago:20260418T100000
DTEND;TZID=America/Chicago:20260418T100000
DTSTAMP:20260423T131622
CREATED:20260416T190250Z
LAST-MODIFIED:20260416T203220Z
UID:13817-1776506400-1776506400@887thecross.com
SUMMARY:Spring Clean Up
DESCRIPTION:WE NEED VOLUNTEERS!\nIn connection with Love the Boot week . . . we need your help on Saturday. Email Mrs. Charlotte Rainwater at Charlotte@townofrichwood.com to help or just show up!
URL:https://887thecross.com/event/spring-clean-up/
LOCATION:Town of Richwood Multi-Purpose Center\, 2710 Martin Luther King Drive\, Richwood\, LA\, 71202
CATEGORIES:Community Event
ATTACH;FMTTYPE=image/webp:https://887thecross.com/wp-content/uploads/2026/04/town-of-richwood.webp
END:VEVENT
END:VCALENDAR