BEGIN:VCALENDAR
VERSION:2.0
PRODID:-//88.7 The Cross - ECPv6.15.20//NONSGML v1.0//EN
CALSCALE:GREGORIAN
METHOD:PUBLISH
X-ORIGINAL-URL:https://887thecross.com
X-WR-CALDESC:Events for 88.7 The Cross
REFRESH-INTERVAL;VALUE=DURATION:PT1H
X-Robots-Tag:noindex
X-PUBLISHED-TTL:PT1H
BEGIN:VTIMEZONE
TZID:America/Chicago
BEGIN:DAYLIGHT
TZOFFSETFROM:-0600
TZOFFSETTO:-0500
TZNAME:CDT
DTSTART:20250309T080000
END:DAYLIGHT
BEGIN:STANDARD
TZOFFSETFROM:-0500
TZOFFSETTO:-0600
TZNAME:CST
DTSTART:20251102T070000
END:STANDARD
BEGIN:DAYLIGHT
TZOFFSETFROM:-0600
TZOFFSETTO:-0500
TZNAME:CDT
DTSTART:20260308T080000
END:DAYLIGHT
BEGIN:STANDARD
TZOFFSETFROM:-0500
TZOFFSETTO:-0600
TZNAME:CST
DTSTART:20261101T070000
END:STANDARD
BEGIN:DAYLIGHT
TZOFFSETFROM:-0600
TZOFFSETTO:-0500
TZNAME:CDT
DTSTART:20270314T080000
END:DAYLIGHT
BEGIN:STANDARD
TZOFFSETFROM:-0500
TZOFFSETTO:-0600
TZNAME:CST
DTSTART:20271107T070000
END:STANDARD
END:VTIMEZONE
BEGIN:VEVENT
DTSTART;TZID=America/Chicago:20260414T110000
DTEND;TZID=America/Chicago:20260414T130000
DTSTAMP:20260423T132008
CREATED:20260323T171707Z
LAST-MODIFIED:20260323T171813Z
UID:13442-1776164400-1776171600@887thecross.com
SUMMARY:Baked Potato Fundraiser
DESCRIPTION:ORDER YOUR PLATE TODAY!\nThe Winnsboro Lions Club is hosting their baked potato fundraiser. The plate includes a loaded baked potato\, chili\, & dessert. \nTo Order:\nCall 318-435-8770 to order a plate. You can pickup your order at First Methodist Church Winnsboro. Delivery is available for 5 or more orders. \n 
URL:https://887thecross.com/event/baked-potato-fundraiser/
LOCATION:First Methodist Church Winnsboro\, 1502 West St\, Winnsboro\, LA\, 71295
CATEGORIES:Church Event,Fundraiser
ATTACH;FMTTYPE=image/webp:https://887thecross.com/wp-content/uploads/2026/03/event-17.webp
END:VEVENT
END:VCALENDAR