BEGIN:VCALENDAR
VERSION:2.0
PRODID:-//88.7 The Cross - ECPv6.15.20//NONSGML v1.0//EN
CALSCALE:GREGORIAN
METHOD:PUBLISH
X-WR-CALNAME:88.7 The Cross
X-ORIGINAL-URL:https://887thecross.com
X-WR-CALDESC:Events for 88.7 The Cross
REFRESH-INTERVAL;VALUE=DURATION:PT1H
X-Robots-Tag:noindex
X-PUBLISHED-TTL:PT1H
BEGIN:VTIMEZONE
TZID:America/Chicago
BEGIN:DAYLIGHT
TZOFFSETFROM:-0600
TZOFFSETTO:-0500
TZNAME:CDT
DTSTART:20250309T080000
END:DAYLIGHT
BEGIN:STANDARD
TZOFFSETFROM:-0500
TZOFFSETTO:-0600
TZNAME:CST
DTSTART:20251102T070000
END:STANDARD
BEGIN:DAYLIGHT
TZOFFSETFROM:-0600
TZOFFSETTO:-0500
TZNAME:CDT
DTSTART:20260308T080000
END:DAYLIGHT
BEGIN:STANDARD
TZOFFSETFROM:-0500
TZOFFSETTO:-0600
TZNAME:CST
DTSTART:20261101T070000
END:STANDARD
BEGIN:DAYLIGHT
TZOFFSETFROM:-0600
TZOFFSETTO:-0500
TZNAME:CDT
DTSTART:20270314T080000
END:DAYLIGHT
BEGIN:STANDARD
TZOFFSETFROM:-0500
TZOFFSETTO:-0600
TZNAME:CST
DTSTART:20271107T070000
END:STANDARD
END:VTIMEZONE
BEGIN:VEVENT
DTSTART;TZID=America/Chicago:20260404T110000
DTEND;TZID=America/Chicago:20260404T130000
DTSTAMP:20260423T144039
CREATED:20260317T150626Z
LAST-MODIFIED:20260323T163224Z
UID:13362-1775300400-1775307600@887thecross.com
SUMMARY:Easter Eggstravaganza
DESCRIPTION:EGG HUNT * FOOD * PETTING ZOO * AND MORE!\nThis is a fun\, FREE event for the whole family!  We will have free food\, an egg hunt\, a petting zoo\, bounce houses\, puppets\, and games. \nWe hope to see you there!
URL:https://887thecross.com/event/easter-eggstravaganza/
LOCATION:Souls Harbor Pentecostal Church\, 113 Slocum Rd\, Calhoun\, LA\, 71225
CATEGORIES:Church Event,Easter Egg Hunt,Family Event
ATTACH;FMTTYPE=image/webp:https://887thecross.com/wp-content/uploads/2026/03/event-13.webp
END:VEVENT
END:VCALENDAR