BEGIN:VCALENDAR
VERSION:2.0
PRODID:-//88.7 The Cross - ECPv6.15.20//NONSGML v1.0//EN
CALSCALE:GREGORIAN
METHOD:PUBLISH
X-WR-CALNAME:88.7 The Cross
X-ORIGINAL-URL:https://887thecross.com
X-WR-CALDESC:Events for 88.7 The Cross
REFRESH-INTERVAL;VALUE=DURATION:PT1H
X-Robots-Tag:noindex
X-PUBLISHED-TTL:PT1H
BEGIN:VTIMEZONE
TZID:America/Chicago
BEGIN:DAYLIGHT
TZOFFSETFROM:-0600
TZOFFSETTO:-0500
TZNAME:CDT
DTSTART:20250309T080000
END:DAYLIGHT
BEGIN:STANDARD
TZOFFSETFROM:-0500
TZOFFSETTO:-0600
TZNAME:CST
DTSTART:20251102T070000
END:STANDARD
BEGIN:DAYLIGHT
TZOFFSETFROM:-0600
TZOFFSETTO:-0500
TZNAME:CDT
DTSTART:20260308T080000
END:DAYLIGHT
BEGIN:STANDARD
TZOFFSETFROM:-0500
TZOFFSETTO:-0600
TZNAME:CST
DTSTART:20261101T070000
END:STANDARD
BEGIN:DAYLIGHT
TZOFFSETFROM:-0600
TZOFFSETTO:-0500
TZNAME:CDT
DTSTART:20270314T080000
END:DAYLIGHT
BEGIN:STANDARD
TZOFFSETFROM:-0500
TZOFFSETTO:-0600
TZNAME:CST
DTSTART:20271107T070000
END:STANDARD
END:VTIMEZONE
BEGIN:VEVENT
DTSTART;TZID=America/Chicago:20260404T100000
DTEND;TZID=America/Chicago:20260404T140000
DTSTAMP:20260423T154002
CREATED:20260330T184024Z
LAST-MODIFIED:20260330T185411Z
UID:13556-1775296800-1775311200@887thecross.com
SUMMARY:Easter EGGstravaganza
DESCRIPTION:Easter EGGstravaganza at Louisiana Purchase Gardens & Zoo!\nThis fun event is brought to you by Creed & Creed Injury Attorneys and the Louisiana Purchase Zoological Society. There will be an egg hunt with special prizes\, food trucks\, shopping\, and of course\, animals! We can’t wait for you to hop on out to the zoo for lots of fun!!! \nEVENT DETAILS: \nAdults $12\, Kids $7\, Seniors 65+ $10\, Kids 2 & under get in FREE! \nEaster Egg Hunt Times (Tentative):\n0-2 year old: 11:00 a.m.\n3-5 years old: 11:30 a.m.\n6-8 years old: 12:00 p.m.\n9-10 years old: 12:30 p.m. \nSpecial needs hunts will be held in a separate area beginning at 11am.
URL:https://887thecross.com/event/easter-eggstravaganza-3/
LOCATION:Louisiana Purchase Garden & Zoo\, 1405 Bernstein Park Drive\, Monroe\, LA\, 71202
CATEGORIES:Community Event,Easter Egg Hunt,Family Event
ATTACH;FMTTYPE=image/webp:https://887thecross.com/wp-content/uploads/2026/03/event-20.webp
END:VEVENT
END:VCALENDAR