BEGIN:VCALENDAR
VERSION:2.0
PRODID:-//88.7 The Cross - ECPv6.15.20//NONSGML v1.0//EN
CALSCALE:GREGORIAN
METHOD:PUBLISH
X-WR-CALNAME:88.7 The Cross
X-ORIGINAL-URL:https://887thecross.com
X-WR-CALDESC:Events for 88.7 The Cross
REFRESH-INTERVAL;VALUE=DURATION:PT1H
X-Robots-Tag:noindex
X-PUBLISHED-TTL:PT1H
BEGIN:VTIMEZONE
TZID:America/Chicago
BEGIN:DAYLIGHT
TZOFFSETFROM:-0600
TZOFFSETTO:-0500
TZNAME:CDT
DTSTART:20250309T080000
END:DAYLIGHT
BEGIN:STANDARD
TZOFFSETFROM:-0500
TZOFFSETTO:-0600
TZNAME:CST
DTSTART:20251102T070000
END:STANDARD
BEGIN:DAYLIGHT
TZOFFSETFROM:-0600
TZOFFSETTO:-0500
TZNAME:CDT
DTSTART:20260308T080000
END:DAYLIGHT
BEGIN:STANDARD
TZOFFSETFROM:-0500
TZOFFSETTO:-0600
TZNAME:CST
DTSTART:20261101T070000
END:STANDARD
BEGIN:DAYLIGHT
TZOFFSETFROM:-0600
TZOFFSETTO:-0500
TZNAME:CDT
DTSTART:20270314T080000
END:DAYLIGHT
BEGIN:STANDARD
TZOFFSETFROM:-0500
TZOFFSETTO:-0600
TZNAME:CST
DTSTART:20271107T070000
END:STANDARD
END:VTIMEZONE
BEGIN:VEVENT
DTSTART;TZID=America/Chicago:20260328T130000
DTEND;TZID=America/Chicago:20260328T160000
DTSTAMP:20260423T135618
CREATED:20260305T165208Z
LAST-MODIFIED:20260305T165208Z
UID:13179-1774702800-1774713600@887thecross.com
SUMMARY:NLC Annual Egg Hunt
DESCRIPTION:Egg Hunt * Face Painting * Snow Cones * and more!\nHead over to New Life Church and join in on the fun! There will be Face painting\, “Follow the Light” Skit (true meaning of Easter)\, Snow Cones\, pictures with the Easter Bunny\, & Egg Hunt. This event is FREE! \n Ages: Pre K – 4th grade \nWe hope to see you there
URL:https://887thecross.com/event/nlc-annual-egg-hunt/
LOCATION:New Life Church in Bastrop\, 10091 Peach Orchard Road\, Bastrop\, LA\, 71220\, United States
CATEGORIES:Church Event,Community Event,Easter,Easter Egg Hunt,Family Event
ATTACH;FMTTYPE=image/webp:https://887thecross.com/wp-content/uploads/2025/03/egg-hunt.webp
END:VEVENT
BEGIN:VEVENT
DTSTART;TZID=America/Chicago:20260329T140000
DTEND;TZID=America/Chicago:20260329T160000
DTSTAMP:20260423T135618
CREATED:20260302T183627Z
LAST-MODIFIED:20260312T181959Z
UID:13067-1774792800-1774800000@887thecross.com
SUMMARY:Point Community Egg Hunt
DESCRIPTION:3rd Annual Point Community Egg Hunt!\nFour churches from surrounding areas have partnered with one another to bring a FREE\, fun event to the local community. There will be games\, a ‘Cool Bean’ food truck with lemonade and coffee\, a Ward 5 Firetruck\, a local ambulance and a police car for kids to checkout\, a bubble booth\, an inflatable jumper\, face painting\, volleyball\, and of course an egg hunt! \nWe can’t wait to see you there!
URL:https://887thecross.com/event/point-community-egg-hunt/
LOCATION:Point Community Egg Hunt\, 348 Guice Road\, Downsville\, LA\, 71234\, United States
CATEGORIES:Community Event,Easter,Easter Egg Hunt,Family Event,Holiday Event,Partner Event
ATTACH;FMTTYPE=image/webp:https://887thecross.com/wp-content/uploads/2025/03/egg-hunt.webp
END:VEVENT
BEGIN:VEVENT
DTSTART;TZID=America/Chicago:20260329T150000
DTEND;TZID=America/Chicago:20260329T170000
DTSTAMP:20260423T135618
CREATED:20260325T165124Z
LAST-MODIFIED:20260325T170402Z
UID:13487-1774796400-1774803600@887thecross.com
SUMMARY:Easter Eggstravaganza
DESCRIPTION:Fun for the whole family!\nThere will be a FREE egg hunt for children in 6th grade and under\, a hotdog meal for everyone\, and photos with the Easter Bunny! \nCome and join in the fun!
URL:https://887thecross.com/event/easter-eggstravaganza-2/
LOCATION:Lakeshore Baptist Church\, 308 Lakeshore Drive\, Monroe\, LA
CATEGORIES:Church Event,Easter Egg Hunt,Family Event
ATTACH;FMTTYPE=image/webp:https://887thecross.com/wp-content/uploads/2026/03/Easter.webp
END:VEVENT
END:VCALENDAR