BEGIN:VCALENDAR
VERSION:2.0
PRODID:-//88.7 The Cross - ECPv6.15.20//NONSGML v1.0//EN
CALSCALE:GREGORIAN
METHOD:PUBLISH
X-WR-CALNAME:88.7 The Cross
X-ORIGINAL-URL:https://887thecross.com
X-WR-CALDESC:Events for 88.7 The Cross
REFRESH-INTERVAL;VALUE=DURATION:PT1H
X-Robots-Tag:noindex
X-PUBLISHED-TTL:PT1H
BEGIN:VTIMEZONE
TZID:America/Chicago
BEGIN:DAYLIGHT
TZOFFSETFROM:-0600
TZOFFSETTO:-0500
TZNAME:CDT
DTSTART:20250309T080000
END:DAYLIGHT
BEGIN:STANDARD
TZOFFSETFROM:-0500
TZOFFSETTO:-0600
TZNAME:CST
DTSTART:20251102T070000
END:STANDARD
BEGIN:DAYLIGHT
TZOFFSETFROM:-0600
TZOFFSETTO:-0500
TZNAME:CDT
DTSTART:20260308T080000
END:DAYLIGHT
BEGIN:STANDARD
TZOFFSETFROM:-0500
TZOFFSETTO:-0600
TZNAME:CST
DTSTART:20261101T070000
END:STANDARD
BEGIN:DAYLIGHT
TZOFFSETFROM:-0600
TZOFFSETTO:-0500
TZNAME:CDT
DTSTART:20270314T080000
END:DAYLIGHT
BEGIN:STANDARD
TZOFFSETFROM:-0500
TZOFFSETTO:-0600
TZNAME:CST
DTSTART:20271107T070000
END:STANDARD
END:VTIMEZONE
BEGIN:VEVENT
DTSTART;TZID=America/Chicago:20260401T180000
DTEND;TZID=America/Chicago:20260401T190000
DTSTAMP:20260423T164237
CREATED:20260305T172702Z
LAST-MODIFIED:20260305T172702Z
UID:13182-1775066400-1775070000@887thecross.com
SUMMARY:Holy Week Worship Night
DESCRIPTION:Celebrate Holy Week together!\nWe invite you to join us at Mt Vernon Baptist Church as we gather to celebrate Holy Week by worshiping. It will be a meaningful evening of worship through song and a devotional message. This special night is for all ages\, and everyone is welcome. \nWe hope to see you there!
URL:https://887thecross.com/event/holy-week-worship-night/
LOCATION:Mt Vernon Baptist Church\, 215 Mount Vernon Church Rd\, West Monroe\, LA\, 71292\, United States
CATEGORIES:Church Event,Community Event,Holy Week
ATTACH;FMTTYPE=image/webp:https://887thecross.com/wp-content/uploads/2026/03/Your-paragraph-text-8.webp
END:VEVENT
END:VCALENDAR