BEGIN:VCALENDAR
VERSION:2.0
PRODID:-//88.7 The Cross - ECPv6.15.20//NONSGML v1.0//EN
CALSCALE:GREGORIAN
METHOD:PUBLISH
X-WR-CALNAME:88.7 The Cross
X-ORIGINAL-URL:https://887thecross.com
X-WR-CALDESC:Events for 88.7 The Cross
REFRESH-INTERVAL;VALUE=DURATION:PT1H
X-Robots-Tag:noindex
X-PUBLISHED-TTL:PT1H
BEGIN:VTIMEZONE
TZID:America/Chicago
BEGIN:DAYLIGHT
TZOFFSETFROM:-0600
TZOFFSETTO:-0500
TZNAME:CDT
DTSTART:20250309T080000
END:DAYLIGHT
BEGIN:STANDARD
TZOFFSETFROM:-0500
TZOFFSETTO:-0600
TZNAME:CST
DTSTART:20251102T070000
END:STANDARD
BEGIN:DAYLIGHT
TZOFFSETFROM:-0600
TZOFFSETTO:-0500
TZNAME:CDT
DTSTART:20260308T080000
END:DAYLIGHT
BEGIN:STANDARD
TZOFFSETFROM:-0500
TZOFFSETTO:-0600
TZNAME:CST
DTSTART:20261101T070000
END:STANDARD
BEGIN:DAYLIGHT
TZOFFSETFROM:-0600
TZOFFSETTO:-0500
TZNAME:CDT
DTSTART:20270314T080000
END:DAYLIGHT
BEGIN:STANDARD
TZOFFSETFROM:-0500
TZOFFSETTO:-0600
TZNAME:CST
DTSTART:20271107T070000
END:STANDARD
END:VTIMEZONE
BEGIN:VEVENT
DTSTART;VALUE=DATE:20260309
DTEND;VALUE=DATE:20260526
DTSTAMP:20260423T055526
CREATED:20260304T203613Z
LAST-MODIFIED:20260304T203613Z
UID:13164-1773014400-1779753599@887thecross.com
SUMMARY:Grief Share Support Group
DESCRIPTION:You don’t have to navigate loss alone.\nThis is a faith-based support group designed to help people navigate the often unpredictable\, emotional\, and practical challenges following the death of a loved one. This grief share support group is facilitated by Theresa Kennedy. \nBeginning March 9th\, we will meet on Monday evenings from 6-8 p.m.\nWe hope to see you there!
URL:https://887thecross.com/event/grief-share-support-group/
LOCATION:New Life Church in Bastrop\, 10091 Peach Orchard Road\, Bastrop\, LA\, 71220\, United States
CATEGORIES:Church Event,GriefShare
ATTACH;FMTTYPE=image/webp:https://887thecross.com/wp-content/uploads/2025/07/Grief-share.webp
END:VEVENT
BEGIN:VEVENT
DTSTART;VALUE=DATE:20260417
DTEND;VALUE=DATE:20260510
DTSTAMP:20260423T055526
CREATED:20260417T180518Z
LAST-MODIFIED:20260417T190116Z
UID:13871-1776384000-1778371199@887thecross.com
SUMMARY:Dixie Diehards
DESCRIPTION:DIXIE DIEHARDS BASEBALL LEAGUE . . . VOLUNTEER “BUDDIES” NEEDED\nThe Dixie Diehards\, a baseball league for individuals living with special needs\, spring game schedule is now available! They are in need of individuals who are willing to volunteer to help them during their games. The schedule is below and the number of volunteers needed as well.  \nIf you are interested or know a business or youth group who would want to help\, please contact Brooke (Executive Director of the Dixie Diehards) at 318.801.2260 or email dixiediehards@gmail.com. \n \n 
URL:https://887thecross.com/event/dixie-diehards/
LOCATION:LA
CATEGORIES:Community Event,Family Event,Volunteer
ATTACH;FMTTYPE=image/webp:https://887thecross.com/wp-content/uploads/2026/04/dixie-diehards.webp
ORGANIZER;CN="Dixie Diehards":MAILTO:dixiediehards@gmail.com
END:VEVENT
BEGIN:VEVENT
DTSTART;VALUE=DATE:20260420
DTEND;VALUE=DATE:20260424
DTSTAMP:20260423T055526
CREATED:20260422T162851Z
LAST-MODIFIED:20260422T162851Z
UID:13920-1776643200-1776988799@887thecross.com
SUMMARY:Love the Boot Week
DESCRIPTION:Let’s Keep the Boot Clean!\nLove the Boot Week events kick off with “Leaders Against Litter” on Monday\, April 20 at 10 a.m. at West Monroe City Hall. This event is a public rally where local leaders pledge to support cleanup and beautification efforts in Ouachita Parish. A brief cleanup will take place immediately following the program. \nMultiple volunteer cleanups will take place in the City of West Monroe that week. These cleanups include: \n\nWednesday\, April 21 – Commercial Park cleanup at 10 a.m. (meet at West Monroe Recycling Center)\nWednesday\, April 22 – Highland Park cleanup at 4 p.m.\nWednesday\, April 22 – Riverbend community cleanup at 5:30 p.m.\nThursday\, April 23 – Restoration Park cleanup at 9 a.m.
URL:https://887thecross.com/event/love-the-boot-week/
LOCATION:West Monroe City Hall\, 2305 N 7th Street\, West Monroe\, LA\, 71291\, United States
CATEGORIES:Community Event,Volunteer
ATTACH;FMTTYPE=image/webp:https://887thecross.com/wp-content/uploads/2026/04/Screenshot-2026-04-22-094418.webp
END:VEVENT
BEGIN:VEVENT
DTSTART;VALUE=DATE:20260424
DTEND;VALUE=DATE:20260426
DTSTAMP:20260423T055526
CREATED:20260422T180615Z
LAST-MODIFIED:20260422T180615Z
UID:13927-1776988800-1777161599@887thecross.com
SUMMARY:Ouachita Riverfest
DESCRIPTION:Join the community for Ouachita RiverFest 2026!\nThis free\, family-friendly event features live music\, food trucks\, artisan vendors\, and activities for all ages. \nFriday\, April 24th\, festivities begin at 12 PM and include live entertainment\, the Mrs. Roper Romp and parade\, carnival rides\, and an evening concert by Dwayne Dopsie & the Zydeco Hellraisers. \nSaturday’s schedule runs from 10 AM to 9 PM with shopping\, a car show\, kids zone activities\, live music\, and more. The weekend wraps up with the popular Rubber Duck Drop at 5 PM on the Ouachita River. \nBring the whole family and enjoy a weekend of fun\, food\, and community in West Monroe!
URL:https://887thecross.com/event/ouachita-riverfest/
LOCATION:Antique Alley\, 698 Trenton St\, West Monroe\, LA\, 71291
CATEGORIES:Community Event
ATTACH;FMTTYPE=image/webp:https://887thecross.com/wp-content/uploads/2026/04/Screenshot-2026-04-22-094627.webp
END:VEVENT
BEGIN:VEVENT
DTSTART;TZID=America/Chicago:20260425T080000
DTEND;TZID=America/Chicago:20260425T120000
DTSTAMP:20260423T055526
CREATED:20260416T193349Z
LAST-MODIFIED:20260416T203157Z
UID:13844-1777104000-1777118400@887thecross.com
SUMMARY:Walk A Mile in OUR Shoes
DESCRIPTION:Come out an join us or this 4th annual event!\nSupport Lupus Awareness and enjoy the community as we run\, walk\, or ride for this great cause.
URL:https://887thecross.com/event/4th-annual-lupus-ride-run-walk/
LOCATION:Town of Richwood Multi-Purpose Center\, 2710 Martin Luther King Drive\, Richwood\, LA\, 71202
CATEGORIES:Community Event
ATTACH;FMTTYPE=image/webp:https://887thecross.com/wp-content/uploads/2026/04/lupus-walk.webp
END:VEVENT
BEGIN:VEVENT
DTSTART;TZID=America/Chicago:20260425T090000
DTEND;TZID=America/Chicago:20260425T130000
DTSTAMP:20260423T055526
CREATED:20260416T191333Z
LAST-MODIFIED:20260416T191419Z
UID:13831-1777107600-1777122000@887thecross.com
SUMMARY:Livewell Delta
DESCRIPTION:COME SPEND THE MORNING WITH US!\nFREE CANCER SCREENINGS for breast\, colorectal\, prostate and skin. Health vendors\, food\, door prizes and more! \nAppointments encouraged\, walk-ins welcome!  \nFor more information\, call (318) 414-9758 or visit: MARYBIRD.ORG/LIVEWELL \n 
URL:https://887thecross.com/event/livewell-delta/
LOCATION:Mac’s Fresh Market\, 1427 Winnsboro Road\, Monroe\, LA
CATEGORIES:Community Event
ATTACH;FMTTYPE=image/webp:https://887thecross.com/wp-content/uploads/2026/04/livewell.webp
END:VEVENT
BEGIN:VEVENT
DTSTART;TZID=America/Chicago:20260426T103000
DTEND;TZID=America/Chicago:20260426T103000
DTSTAMP:20260423T055526
CREATED:20260416T204354Z
LAST-MODIFIED:20260416T204354Z
UID:13851-1777199400-1777199400@887thecross.com
SUMMARY:Biker Sunday
DESCRIPTION:
URL:https://887thecross.com/event/biker-sunday/
LOCATION:Cowboy Church at the OK Corral\, 547 Cooney Bonnet Road\, Eros\, LA\, 71238
CATEGORIES:Church Event,Community Event
ATTACH;FMTTYPE=image/webp:https://887thecross.com/wp-content/uploads/2026/04/Taverns-to-Tabernackles.webp
END:VEVENT
BEGIN:VEVENT
DTSTART;TZID=America/Chicago:20260426T150000
DTEND;TZID=America/Chicago:20260426T150000
DTSTAMP:20260423T055526
CREATED:20260417T154241Z
LAST-MODIFIED:20260417T154241Z
UID:13866-1777215600-1777215600@887thecross.com
SUMMARY:Spring Ring
DESCRIPTION:Join us for our Free Concert for the Ouachita Ringers at Cedar Crest Baptist Church. 
URL:https://887thecross.com/event/spring-ring/
LOCATION:Cedar Crest Baptist Church\, 3245 Arkansas Rd\, West Monroe\, LA\, United States
CATEGORIES:Church Event,Concert
ATTACH;FMTTYPE=image/webp:https://887thecross.com/wp-content/uploads/2025/08/Bell-Ringers-2.webp
END:VEVENT
BEGIN:VEVENT
DTSTART;TZID=America/Chicago:20260429T190000
DTEND;TZID=America/Chicago:20260429T213000
DTSTAMP:20260423T055526
CREATED:20260215T224409Z
LAST-MODIFIED:20260215T225008Z
UID:12768-1777489200-1777498200@887thecross.com
SUMMARY:Charity Gayle
DESCRIPTION:REJOICE: A Night of Worship w/ special guest\, Ryan Kennedy \nJoin us for an unforgettable night of worship with Charity Gayle\, one of the world’s leading worship artists. Celebrated for her anthems like “I Speak Jesus\,” “Thank You Jesus for the Blood\,” and “I Believe\,” sung in churches around the globe\, Charity has inspired millions with her music\, amassing over half a billion streams worldwide. Charity\, Ryan Kennedy\, and her team will be leading a night of authentic worship that is not to be missed as they tour the country\, leading songs from their newest album\, REJOICE\, and their breakthrough release\, ENDLESS PRAISE. \nSCHEDULE (subject to change):\n5:00pm – VIP doors open\n5:45pm – Early Entry doors open\n6:00pm – General Admission doors open\n7:00pm – Show begins \nGET TICKETS HERE
URL:https://887thecross.com/event/charity-gayle/
LOCATION:North Monroe Baptist Church\, 210 Finks Hideaway Road\, Monroe\, LA\, 71203
CATEGORIES:Concert,Feature Event
ATTACH;FMTTYPE=image/webp:https://887thecross.com/wp-content/uploads/2026/02/Charity-Gayle-.webp
END:VEVENT
BEGIN:VEVENT
DTSTART;VALUE=DATE:20260501
DTEND;VALUE=DATE:20260504
DTSTAMP:20260423T055526
CREATED:20260330T193203Z
LAST-MODIFIED:20260410T144722Z
UID:13575-1777593600-1777852799@887thecross.com
SUMMARY:Red\, White\, & Blue Airshow
DESCRIPTION:Get Your Tickets Today!\nThis is a three-day aviation experience honoring America’s hero with historic warbirds\, military aircraft\, and unforgettable aerial performances. Come celebrate America’s 250th anniversary with us!  \nEVENT DETAILS: \nGates open at 3 PM on May 1st and May 2ndand 11 AM on May 3rd.  \nShow starts approximately 60-120 minutes after gates open. All activities subject to change based on weather and other factors. Twilight show on May 1st & May 2nd onlyGeneral Admission Adult Tickets / $30 \nYouth tickets ages 4-16 / $15 \nKids 3 and under are FREE \nMilitary & FR tickets / $15 and include Active Duty\, Veteran\, First Responders. You will be required to show verification with a badge\, Veteran ID Card\, DD214\, etc. Please bring a chair or blanket. \n  \n\n﻿
URL:https://887thecross.com/event/red-white-blue-airshow/
LOCATION:Monroe Airport\, 5400 Operations Road\, Monroe\, 71212\, United States
CATEGORIES:Community Event,Family Event,Feature Event
ATTACH;FMTTYPE=image/webp:https://887thecross.com/wp-content/uploads/2026/03/Screenshot-2026-03-30-141032.webp
END:VEVENT
BEGIN:VEVENT
DTSTART;TZID=America/Chicago:20260503T170000
DTEND;TZID=America/Chicago:20260503T190000
DTSTAMP:20260423T055526
CREATED:20260422T181817Z
LAST-MODIFIED:20260422T181817Z
UID:13933-1777827600-1777834800@887thecross.com
SUMMARY:Hope in the Park
DESCRIPTION:Come enjoy a night of fun!\nA FREE community celebration with burgers\, jumping inflatables\, popcorn\, snow cones\, music\, and prayer over our neighborhoods! \nPlease call 318-245-0902 for more information. We hope to see you there!
URL:https://887thecross.com/event/hope-in-the-park/
LOCATION:Hope Park\, 869 Good Hope Road\, West Monroe\, LA\, 71291\, United States
CATEGORIES:Church Event,Community Event,Family Event
ATTACH;FMTTYPE=image/webp:https://887thecross.com/wp-content/uploads/2026/04/HopeInThePark_Rectangle.webp
END:VEVENT
BEGIN:VEVENT
DTSTART;TZID=America/Chicago:20260509T080000
DTEND;TZID=America/Chicago:20260509T120000
DTSTAMP:20260423T055526
CREATED:20260316T191923Z
LAST-MODIFIED:20260330T190009Z
UID:13330-1778313600-1778328000@887thecross.com
SUMMARY:Broaden Horizon "Good Tired" 5K
DESCRIPTION:Registration is now open!\nBroaden Horizons is partnering with Seventh Square Coffee & Fleet Feet to put on a 5K Fundraiser. \nCome walk/run/crawl!
URL:https://887thecross.com/event/broaden-horizon-good-tired-5k-powered-by-seventh-square-coffee-fleet-feet/
LOCATION:Forsythe Park\, 2300 Sycamore Street\, Monroe\, LA\, 71201\, United States
CATEGORIES:5k Walk/Run,Fundraiser,Local Ministry,Partner Event
ATTACH;FMTTYPE=image/webp:https://887thecross.com/wp-content/uploads/2026/03/event-15.webp
END:VEVENT
BEGIN:VEVENT
DTSTART;VALUE=DATE:20260611
DTEND;VALUE=DATE:20260615
DTSTAMP:20260423T055526
CREATED:20260309T182438Z
LAST-MODIFIED:20260323T163522Z
UID:13229-1781136000-1781481599@887thecross.com
SUMMARY:VBS 2026 - Rainforest Falls
DESCRIPTION:Get ready to trek into the wild!\nJoin us at New Life Church for a rainforest adventure through the Psalms with VBS 2026 RAINFOREST FALLS.\nYour kids will explore the nature of God\, discover His incredible creation\, and grow closer to their loving Creator through high-energy games\, catchy music\, and hands-on discovery. \nAges: Kindergarten through Sixth grade are welcome! \nMore Details:\nJune 11th\, Thursday: 6pm – 8:30pm  \nJune 12th\, Friday: 6pm -8:30pm  \nJune 13th\, Saturday: 8:30am – 11:30am  \nJune 14th\, Sunday: 10am – 12pm \nDon’t let them miss the jungle fun!
URL:https://887thecross.com/event/vbs-2026-rainforest-falls/
LOCATION:New Life Church in Bastrop\, 10091 Peach Orchard Road\, Bastrop\, LA\, 71220\, United States
CATEGORIES:Church Event,Vacation Bible School
ATTACH;FMTTYPE=image/webp:https://887thecross.com/wp-content/uploads/2026/03/Untitled-design.webp
END:VEVENT
END:VCALENDAR