BEGIN:VCALENDAR
VERSION:2.0
PRODID:-//88.7 The Cross - ECPv6.15.20//NONSGML v1.0//EN
CALSCALE:GREGORIAN
METHOD:PUBLISH
X-WR-CALNAME:88.7 The Cross
X-ORIGINAL-URL:https://887thecross.com
X-WR-CALDESC:Events for 88.7 The Cross
REFRESH-INTERVAL;VALUE=DURATION:PT1H
X-Robots-Tag:noindex
X-PUBLISHED-TTL:PT1H
BEGIN:VTIMEZONE
TZID:America/Chicago
BEGIN:DAYLIGHT
TZOFFSETFROM:-0600
TZOFFSETTO:-0500
TZNAME:CDT
DTSTART:20250309T080000
END:DAYLIGHT
BEGIN:STANDARD
TZOFFSETFROM:-0500
TZOFFSETTO:-0600
TZNAME:CST
DTSTART:20251102T070000
END:STANDARD
BEGIN:DAYLIGHT
TZOFFSETFROM:-0600
TZOFFSETTO:-0500
TZNAME:CDT
DTSTART:20260308T080000
END:DAYLIGHT
BEGIN:STANDARD
TZOFFSETFROM:-0500
TZOFFSETTO:-0600
TZNAME:CST
DTSTART:20261101T070000
END:STANDARD
BEGIN:DAYLIGHT
TZOFFSETFROM:-0600
TZOFFSETTO:-0500
TZNAME:CDT
DTSTART:20270314T080000
END:DAYLIGHT
BEGIN:STANDARD
TZOFFSETFROM:-0500
TZOFFSETTO:-0600
TZNAME:CST
DTSTART:20271107T070000
END:STANDARD
END:VTIMEZONE
BEGIN:VEVENT
DTSTART;VALUE=DATE:20260309
DTEND;VALUE=DATE:20260526
DTSTAMP:20260423T123809
CREATED:20260304T203613Z
LAST-MODIFIED:20260304T203613Z
UID:13164-1773014400-1779753599@887thecross.com
SUMMARY:Grief Share Support Group
DESCRIPTION:You don’t have to navigate loss alone.\nThis is a faith-based support group designed to help people navigate the often unpredictable\, emotional\, and practical challenges following the death of a loved one. This grief share support group is facilitated by Theresa Kennedy. \nBeginning March 9th\, we will meet on Monday evenings from 6-8 p.m.\nWe hope to see you there!
URL:https://887thecross.com/event/grief-share-support-group/
LOCATION:New Life Church in Bastrop\, 10091 Peach Orchard Road\, Bastrop\, LA\, 71220\, United States
CATEGORIES:Church Event,GriefShare
ATTACH;FMTTYPE=image/webp:https://887thecross.com/wp-content/uploads/2025/07/Grief-share.webp
END:VEVENT
BEGIN:VEVENT
DTSTART;VALUE=DATE:20260417
DTEND;VALUE=DATE:20260510
DTSTAMP:20260423T123809
CREATED:20260417T180518Z
LAST-MODIFIED:20260417T190116Z
UID:13871-1776384000-1778371199@887thecross.com
SUMMARY:Dixie Diehards
DESCRIPTION:DIXIE DIEHARDS BASEBALL LEAGUE . . . VOLUNTEER “BUDDIES” NEEDED\nThe Dixie Diehards\, a baseball league for individuals living with special needs\, spring game schedule is now available! They are in need of individuals who are willing to volunteer to help them during their games. The schedule is below and the number of volunteers needed as well.  \nIf you are interested or know a business or youth group who would want to help\, please contact Brooke (Executive Director of the Dixie Diehards) at 318.801.2260 or email dixiediehards@gmail.com. \n \n 
URL:https://887thecross.com/event/dixie-diehards/
LOCATION:LA
CATEGORIES:Community Event,Family Event,Volunteer
ATTACH;FMTTYPE=image/webp:https://887thecross.com/wp-content/uploads/2026/04/dixie-diehards.webp
ORGANIZER;CN="Dixie Diehards":MAILTO:dixiediehards@gmail.com
END:VEVENT
BEGIN:VEVENT
DTSTART;TZID=America/Chicago:20260509T080000
DTEND;TZID=America/Chicago:20260509T120000
DTSTAMP:20260423T123809
CREATED:20260316T191923Z
LAST-MODIFIED:20260330T190009Z
UID:13330-1778313600-1778328000@887thecross.com
SUMMARY:Broaden Horizon "Good Tired" 5K
DESCRIPTION:Registration is now open!\nBroaden Horizons is partnering with Seventh Square Coffee & Fleet Feet to put on a 5K Fundraiser. \nCome walk/run/crawl!
URL:https://887thecross.com/event/broaden-horizon-good-tired-5k-powered-by-seventh-square-coffee-fleet-feet/
LOCATION:Forsythe Park\, 2300 Sycamore Street\, Monroe\, LA\, 71201\, United States
CATEGORIES:5k Walk/Run,Fundraiser,Local Ministry,Partner Event
ATTACH;FMTTYPE=image/webp:https://887thecross.com/wp-content/uploads/2026/03/event-15.webp
END:VEVENT
END:VCALENDAR